Workbook

Sheet الغرف
B4: ROOMS
B5: 1 | C5: 2 | D5: 3 | E5: 4 | F5: 5 | G5: 6 | H5: 7 | I5: 8 | J5: 9
B6: 10 | C6: 11 | D6: 12 | E6: 13 | F6: 14 | G6: 15 | H6: 16 | I6: 17 | J6: 18
B7: 19 | C7: 20 | D7: 21 | E7: 22 | F7: 23 | G7: 24 | H7: 25 | I7: 26 | J7: 27
B8: 28 | C8: 29 | D8: 30 | E8: 31 | F8: 32 | G8: 33 | H8: 34 | I8: 35 | J8: 36
B9: 37 | C9: 38 | D9: 39 | E9: 40 | F9: 41 | G9: 42 | H9: 43 | I9: 44 | J9: 45
M12: Rooms
B13: ROOMS | M13: نوع الغرفة | N13: عدد الغرف المؤجة | O13: عدد الغرف المتبقية
B14: =VLOOKUP(B$5,'Rooms Types'!$H$4:$K$48,4,0) -> 1-Full | C14: =VLOOKUP(C$5,'Rooms Types'!$H$4:$K$48,4,0) -> 2-Standard | D14: =VLOOKUP(D$5,'Rooms Types'!$H$4:$K$48,4,0) -> 3-Standard | E14: =VLOOKUP(E$5,'Rooms Types'!$H$4:$K$48,4,0) -> 4-Standard | F14: =VLOOKUP(F$5,'Rooms Types'!$H$4:$K$48,4,0) -> 5-Standard | G14: =VLOOKUP(G$5,'Rooms Types'!$H$4:$K$48,4,0) -> 6-Standard | H14: =VLOOKUP(H$5,'Rooms Types'!$H$4:$K$48,4,0) -> 7-Standard | I14: =VLOOKUP(I$5,'Rooms Types'!$H$4:$K$48,4,0) -> 8-Standard | J14: =VLOOKUP(J$5,'Rooms Types'!$H$4:$K$48,4,0) -> 9-Full | M14: Standard | N14: =COUNTIFS('Rooms Types'!$I$4:$I$48,M14,'Rooms Types'!$J$4:$J$48,"Full") -> 5 | O14: =COUNTIFS('Rooms Types'!$I$4:$I$48,M14,'Rooms Types'!$J$4:$J$48,"<>Full") -> 8
B15: =VLOOKUP(B$6,'Rooms Types'!$H$4:$K$48,4,0) -> 10-Full | C15: =VLOOKUP(C$6,'Rooms Types'!$H$4:$K$48,4,0) -> 11-Full | D15: =VLOOKUP(D$6,'Rooms Types'!$H$4:$K$48,4,0) -> 12-Standard | E15: =VLOOKUP(E$6,'Rooms Types'!$H$4:$K$48,4,0) -> 13-Full | F15: =VLOOKUP(F$6,'Rooms Types'!$H$4:$K$48,4,0) -> 14-Double Room | G15: =VLOOKUP(G$6,'Rooms Types'!$H$4:$K$48,4,0) -> 15-Double Room | H15: =VLOOKUP(H$6,'Rooms Types'!$H$4:$K$48,4,0) -> 16-Full | I15: =VLOOKUP(I$6,'Rooms Types'!$H$4:$K$48,4,0) -> 17-Double Room | J15: =VLOOKUP(J$6,'Rooms Types'!$H$4:$K$48,4,0) -> 18-Double Room | M15: Double Room | N15: =COUNTIFS('Rooms Types'!$I$4:$I$48,M15,'Rooms Types'!$J$4:$J$48,"Full") -> 5 | O15: =COUNTIFS('Rooms Types'!$I$4:$I$48,M15,'Rooms Types'!$J$4:$J$48,"<>Full") -> 4
B16: =VLOOKUP(B$7,'Rooms Types'!$H$4:$K$48,4,0) -> 19-Full | C16: =VLOOKUP(C$7,'Rooms Types'!$H$4:$K$48,4,0) -> 20-Full | D16: =VLOOKUP(D$7,'Rooms Types'!$H$4:$K$48,4,0) -> 21-Full | E16: =VLOOKUP(E$7,'Rooms Types'!$H$4:$K$48,4,0) -> 22-Full | F16: =VLOOKUP(F$7,'Rooms Types'!$H$4:$K$48,4,0) -> 23-Full | G16: =VLOOKUP(G$7,'Rooms Types'!$H$4:$K$48,4,0) -> 24-Duplex | H16: =VLOOKUP(H$7,'Rooms Types'!$H$4:$K$48,4,0) -> 25-Duplex | I16: =VLOOKUP(I$7,'Rooms Types'!$H$4:$K$48,4,0) -> 26-Duplex | J16: =VLOOKUP(J$7,'Rooms Types'!$H$4:$K$48,4,0) -> 27-Duplex | M16: Duplex | N16: =COUNTIFS('Rooms Types'!$I$4:$I$48,M16,'Rooms Types'!$J$4:$J$48,"Full") -> 1 | O16: =COUNTIFS('Rooms Types'!$I$4:$I$48,M16,'Rooms Types'!$J$4:$J$48,"<>Full") -> 5
B17: =VLOOKUP(B$8,'Rooms Types'!$H$4:$K$48,4,0) -> 28-Duplex | C17: =VLOOKUP(C$8,'Rooms Types'!$H$4:$K$48,4,0) -> 29-Cabana | D17: =VLOOKUP(D$8,'Rooms Types'!$H$4:$K$48,4,0) -> 30-Cabana | E17: =VLOOKUP(E$8,'Rooms Types'!$H$4:$K$48,4,0) -> 31-Cabana | F17: =VLOOKUP(F$8,'Rooms Types'!$H$4:$K$48,4,0) -> 32-Cabana | G17: =VLOOKUP(G$8,'Rooms Types'!$H$4:$K$48,4,0) -> 33-Full | H17: =VLOOKUP(H$8,'Rooms Types'!$H$4:$K$48,4,0) -> 34-Full | I17: =VLOOKUP(I$8,'Rooms Types'!$H$4:$K$48,4,0) -> 35-Full | J17: =VLOOKUP(J$8,'Rooms Types'!$H$4:$K$48,4,0) -> 36-Suite Room | M17: Cabana | N17: =COUNTIFS('Rooms Types'!$I$4:$I$48,M17,'Rooms Types'!$J$4:$J$48,"Full") -> 3 | O17: =COUNTIFS('Rooms Types'!$I$4:$I$48,M17,'Rooms Types'!$J$4:$J$48,"<>Full") -> 4
B18: =VLOOKUP(B$9,'Rooms Types'!$H$4:$K$48,4,0) -> 37-Suite Room | C18: =VLOOKUP(C$9,'Rooms Types'!$H$4:$K$48,4,0) -> 38-Suite Room | D18: =VLOOKUP(D$9,'Rooms Types'!$H$4:$K$48,4,0) -> 39-Suite Room | E18: =VLOOKUP(E$9,'Rooms Types'!$H$4:$K$48,4,0) -> 40-Suite Room | F18: =VLOOKUP(F$9,'Rooms Types'!$H$4:$K$48,4,0) -> 41-Suite Room | G18: =VLOOKUP(G$9,'Rooms Types'!$H$4:$K$48,4,0) -> 42-Suite Room | H18: =VLOOKUP(H$9,'Rooms Types'!$H$4:$K$48,4,0) -> 43-Suite Room | I18: =VLOOKUP(I$9,'Rooms Types'!$H$4:$K$48,4,0) -> 44-Suite Room | J18: =VLOOKUP(J$9,'Rooms Types'!$H$4:$K$48,4,0) -> 45-Suite Room | M18: Suite Room | N18: =COUNTIFS('Rooms Types'!$I$4:$I$48,M18,'Rooms Types'!$J$4:$J$48,"Full") -> 0 | O18: =COUNTIFS('Rooms Types'!$I$4:$I$48,M18,'Rooms Types'!$J$4:$J$48,"<>Full") -> 10

Sheet الفندق
A1: Name | B1: Nationality | C1: رقم جواز السفر | D1: نوع الغرفة | E1: رقم الغرفة | F1: سعر الليلة الواحدة | G1: وقت الدخول | H1: وقت الخروج | I1: عدد أيام الإقامة | J1: الخصم | K1: التكلفة
A2: Ahmad Omary | B2: Syrian | C2: 132805815 | D2: Standard | E2: 9 | F2: =IF(D2=$N$4,$O$4,IF(D2=$N$5,$O$5,IF(D2=$N$6,$O$6,IF(D2=$N$7,$O$7,$O$8)))) -> 100 | G2: 43042 | H2: 43049 | I2: =MAX(H2-G2,0) -> 7 | J2: =IF(I2=0,"",IF(I2>10,20%,IF(I2>5,15%,"0%"))) -> 0.15 | K2: =IF(J2="","",F2*I2*(1-J2)) -> 595
A3: Ali Hamdo | B3: Jordanian | C3: 379618433 | D3: Standard | E3: 5 | F3: =IF(D3=$N$4,$O$4,IF(D3=$N$5,$O$5,IF(D3=$N$6,$O$6,IF(D3=$N$7,$O$7,$O$8)))) -> 100 | G3: 43048 | H3: 43053 | I3: =MAX(H3-G3,0) -> 5 | J3: =IF(I3=0,"",IF(I3>10,20%,IF(I3>5,15%,"0%"))) -> 0% | K3: =IF(J3="","",F3*I3*(1-J3)) -> 500 | N3: نوع الغرفة | O3: سعر الليلة
A4: Alya'a Mohsen | B4: Palestinian | C4: 182658697 | D4: Duplex | E4: 27 | F4: =IF(D4=$N$4,$O$4,IF(D4=$N$5,$O$5,IF(D4=$N$6,$O$6,IF(D4=$N$7,$O$7,$O$8)))) -> 225 | G4: 43052 | H4: 43053 | I4: =MAX(H4-G4,0) -> 1 | J4: =IF(I4=0,"",IF(I4>10,20%,IF(I4>5,15%,"0%"))) -> 0% | K4: =IF(J4="","",F4*I4*(1-J4)) -> 225 | N4: Standard | O4: 100
A5: Dammam Al Ahmad | B5: Saudi | C5: 345418108 | D5: Standard | E5: 11 | F5: =IF(D5=$N$4,$O$4,IF(D5=$N$5,$O$5,IF(D5=$N$6,$O$6,IF(D5=$N$7,$O$7,$O$8)))) -> 100 | G5: 43044 | H5: 43049 | I5: =MAX(H5-G5,0) -> 5 | J5: =IF(I5=0,"",IF(I5>10,20%,IF(I5>5,15%,"0%"))) -> 0% | K5: =IF(J5="","",F5*I5*(1-J5)) -> 500 | N5: Double Room | O5: 150
A6: Ghaylan Mheedy | B6: Syrian | C6: 539062673 | D6: Standard | E6: 1 | F6: =IF(D6=$N$4,$O$4,IF(D6=$N$5,$O$5,IF(D6=$N$6,$O$6,IF(D6=$N$7,$O$7,$O$8)))) -> 100 | G6: 43040 | H6: 43051 | I6: =MAX(H6-G6,0) -> 11 | J6: =IF(I6=0,"",IF(I6>10,20%,IF(I6>5,15%,"0%"))) -> 0.2 | K6: =IF(J6="","",F6*I6*(1-J6)) -> 880 | N6: Duplex | O6: 225
A7: Haitham Moeen | B7: Algerian | C7: 699351081 | D7: Cabana | E7: 33 | F7: =IF(D7=$N$4,$O$4,IF(D7=$N$5,$O$5,IF(D7=$N$6,$O$6,IF(D7=$N$7,$O$7,$O$8)))) -> 350 | G7: 43044 | I7: =MAX(H7-G7,0) -> 0 | J7: =IF(I7=0,"",IF(I7>10,20%,IF(I7>5,15%,"0%"))) | K7: =IF(J7="","",F7*I7*(1-J7)) | N7: Cabana | O7: 350
A8: Khaleel Hmaidy | B8: Bahraini | C8: 871730424 | D8: Double Room | E8: 15 | F8: =IF(D8=$N$4,$O$4,IF(D8=$N$5,$O$5,IF(D8=$N$6,$O$6,IF(D8=$N$7,$O$7,$O$8)))) -> 150 | G8: 43048 | H8: 43051 | I8: =MAX(H8-G8,0) -> 3 | J8: =IF(I8=0,"",IF(I8>10,20%,IF(I8>5,15%,"0%"))) -> 0% | K8: =IF(J8="","",F8*I8*(1-J8)) -> 450 | N8: Suite Room | O8: 500
A9: Mohannad Ahmad | B9: Egyptian | C9: 739100707 | D9: Standard | E9: 6 | F9: =IF(D9=$N$4,$O$4,IF(D9=$N$5,$O$5,IF(D9=$N$6,$O$6,IF(D9=$N$7,$O$7,$O$8)))) -> 100 | G9: 43042 | H9: 43044 | I9: =MAX(H9-G9,0) -> 2 | J9: =IF(I9=0,"",IF(I9>10,20%,IF(I9>5,15%,"0%"))) -> 0% | K9: =IF(J9="","",F9*I9*(1-J9)) -> 200
A10: Moheeb Al Jabal | B10: Syrian | C10: 512531472 | D10: Standard | E10: 6 | F10: =IF(D10=$N$4,$O$4,IF(D10=$N$5,$O$5,IF(D10=$N$6,$O$6,IF(D10=$N$7,$O$7,$O$8)))) -> 100 | G10: 43053 | H10: 43054 | I10: =MAX(H10-G10,0) -> 1 | J10: =IF(I10=0,"",IF(I10>10,20%,IF(I10>5,15%,"0%"))) -> 0% | K10: =IF(J10="","",F10*I10*(1-J10)) -> 100
A11: Qutayba Baher | B11: Palestinian | C11: 63083064 | D11: Standard | E11: 13 | F11: =IF(D11=$N$4,$O$4,IF(D11=$N$5,$O$5,IF(D11=$N$6,$O$6,IF(D11=$N$7,$O$7,$O$8)))) -> 100 | G11: 43043 | I11: =MAX(H11-G11,0) -> 0 | J11: =IF(I11=0,"",IF(I11>10,20%,IF(I11>5,15%,"0%"))) | K11: =IF(J11="","",F11*I11*(1-J11))
A12: Qutayba Maher | B12: Saudi | C12: 370951843 | D12: Double Room | E12: 16 | F12: =IF(D12=$N$4,$O$4,IF(D12=$N$5,$O$5,IF(D12=$N$6,$O$6,IF(D12=$N$7,$O$7,$O$8)))) -> 150 | G12: 43052 | H12: 43053 | I12: =MAX(H12-G12,0) -> 1 | J12: =IF(I12=0,"",IF(I12>10,20%,IF(I12>5,15%,"0%"))) -> 0% | K12: =IF(J12="","",F12*I12*(1-J12)) -> 150
A13: Salama Ali | B13: Iraqi | C13: 191381281 | D13: Double Room | E13: 20 | F13: =IF(D13=$N$4,$O$4,IF(D13=$N$5,$O$5,IF(D13=$N$6,$O$6,IF(D13=$N$7,$O$7,$O$8)))) -> 150 | G13: 43042 | H13: 43048 | I13: =MAX(H13-G13,0) -> 6 | J13: =IF(I13=0,"",IF(I13>10,20%,IF(I13>5,15%,"0%"))) -> 0.15 | K13: =IF(J13="","",F13*I13*(1-J13)) -> 765
A14: Saleem Abo Wared | B14: Kuwaiti | C14: 313873391 | D14: Standard | E14: 1 | F14: =IF(D14=$N$4,$O$4,IF(D14=$N$5,$O$5,IF(D14=$N$6,$O$6,IF(D14=$N$7,$O$7,$O$8)))) -> 100 | G14: 43051 | H14: 43054 | I14: =MAX(H14-G14,0) -> 3 | J14: =IF(I14=0,"",IF(I14>10,20%,IF(I14>5,15%,"0%"))) -> 0% | K14: =IF(J14="","",F14*I14*(1-J14)) -> 300
A15: Saleem Ali | B15: Lebanese | C15: 361514181 | D15: Double Room | E15: 22 | F15: =IF(D15=$N$4,$O$4,IF(D15=$N$5,$O$5,IF(D15=$N$6,$O$6,IF(D15=$N$7,$O$7,$O$8)))) -> 150 | G15: 43045 | H15: 43046 | I15: =MAX(H15-G15,0) -> 1 | J15: =IF(I15=0,"",IF(I15>10,20%,IF(I15>5,15%,"0%"))) -> 0% | K15: =IF(J15="","",F15*I15*(1-J15)) -> 150
A16: Saleem Khaled | B16: Qatari | C16: 871321719 | D16: Cabana | E16: 34 | F16: =IF(D16=$N$4,$O$4,IF(D16=$N$5,$O$5,IF(D16=$N$6,$O$6,IF(D16=$N$7,$O$7,$O$8)))) -> 350 | G16: 43046 | H16: 43048 | I16: =MAX(H16-G16,0) -> 2 | J16: =IF(I16=0,"",IF(I16>10,20%,IF(I16>5,15%,"0%"))) -> 0% | K16: =IF(J16="","",F16*I16*(1-J16)) -> 700
A17: Saleem luraid | B17: Spanish | C17: 27721756 | D17: Cabana | E17: 34 | F17: =IF(D17=$N$4,$O$4,IF(D17=$N$5,$O$5,IF(D17=$N$6,$O$6,IF(D17=$N$7,$O$7,$O$8)))) -> 350 | G17: 43049 | I17: =MAX(H17-G17,0) -> 0 | J17: =IF(I17=0,"",IF(I17>10,20%,IF(I17>5,15%,"0%"))) | K17: =IF(J17="","",F17*I17*(1-J17))
A18: Saleem Qaysary | B18: Sudanese | C18: 269149671 | D18: Standard | E18: 11 | F18: =IF(D18=$N$4,$O$4,IF(D18=$N$5,$O$5,IF(D18=$N$6,$O$6,IF(D18=$N$7,$O$7,$O$8)))) -> 100 | G18: 43052 | I18: =MAX(H18-G18,0) -> 0 | J18: =IF(I18=0,"",IF(I18>10,20%,IF(I18>5,15%,"0%"))) | K18: =IF(J18="","",F18*I18*(1-J18))
A19: Saleh Mesto | B19: Yemeni | C19: 267204538 | D19: Standard | E19: 10 | F19: =IF(D19=$N$4,$O$4,IF(D19=$N$5,$O$5,IF(D19=$N$6,$O$6,IF(D19=$N$7,$O$7,$O$8)))) -> 100 | G19: 43043 | I19: =MAX(H19-G19,0) -> 0 | J19: =IF(I19=0,"",IF(I19>10,20%,IF(I19>5,15%,"0%"))) | K19: =IF(J19="","",F19*I19*(1-J19))
A20: Salwa Khaled | B20: Emirati | C20: 675155775 | D20: Double Room | E20: 22 | F20: =IF(D20=$N$4,$O$4,IF(D20=$N$5,$O$5,IF(D20=$N$6,$O$6,IF(D20=$N$7,$O$7,$O$8)))) -> 150 | G20: 43047 | I20: =MAX(H20-G20,0) -> 0 | J20: =IF(I20=0,"",IF(I20>10,20%,IF(I20>5,15%,"0%"))) | K20: =IF(J20="","",F20*I20*(1-J20))
A21: Salwan Morshed | B21: Finnish | C21: 191030805 | D21: Double Room | E21: 16 | F21: =IF(D21=$N$4,$O$4,IF(D21=$N$5,$O$5,IF(D21=$N$6,$O$6,IF(D21=$N$7,$O$7,$O$8)))) -> 150 | G21: 43054 | I21: =MAX(H21-G21,0) -> 0 | J21: =IF(I21=0,"",IF(I21>10,20%,IF(I21>5,15%,"0%"))) | K21: =IF(J21="","",F21*I21*(1-J21))
A22: Sameer Sakher | B22: German | C22: 586029795 | D22: Duplex | E22: 23 | F22: =IF(D22=$N$4,$O$4,IF(D22=$N$5,$O$5,IF(D22=$N$6,$O$6,IF(D22=$N$7,$O$7,$O$8)))) -> 225 | G22: 43048 | I22: =MAX(H22-G22,0) -> 0 | J22: =IF(I22=0,"",IF(I22>10,20%,IF(I22>5,15%,"0%"))) | K22: =IF(J22="","",F22*I22*(1-J22))
A23: Sameera Omary | B23: Syrian | C23: 976203073 | D23: Cabana | E23: 35 | F23: =IF(D23=$N$4,$O$4,IF(D23=$N$5,$O$5,IF(D23=$N$6,$O$6,IF(D23=$N$7,$O$7,$O$8)))) -> 350 | G23: 43049 | I23: =MAX(H23-G23,0) -> 0 | J23: =IF(I23=0,"",IF(I23>10,20%,IF(I23>5,15%,"0%"))) | K23: =IF(J23="","",F23*I23*(1-J23))
A24: Sawsan Ein | B24: Saudi | C24: 655603407 | D24: Double Room | E24: 20 | F24: =IF(D24=$N$4,$O$4,IF(D24=$N$5,$O$5,IF(D24=$N$6,$O$6,IF(D24=$N$7,$O$7,$O$8)))) -> 150 | G24: 43051 | I24: =MAX(H24-G24,0) -> 0 | J24: =IF(I24=0,"",IF(I24>10,20%,IF(I24>5,15%,"0%"))) | K24: =IF(J24="","",F24*I24*(1-J24))
A25: Subhi Khaled | B25: Emirati | C25: 723585611 | D25: Double Room | E25: 21 | F25: =IF(D25=$N$4,$O$4,IF(D25=$N$5,$O$5,IF(D25=$N$6,$O$6,IF(D25=$N$7,$O$7,$O$8)))) -> 150 | G25: 43055 | I25: =MAX(H25-G25,0) -> 0 | J25: =IF(I25=0,"",IF(I25>10,20%,IF(I25>5,15%,"0%"))) | K25: =IF(J25="","",F25*I25*(1-J25))
A26: Suhaeeb Ahmad | B26: Yemeni | C26: 105748483 | D26: Duplex | E26: 24 | F26: =IF(D26=$N$4,$O$4,IF(D26=$N$5,$O$5,IF(D26=$N$6,$O$6,IF(D26=$N$7,$O$7,$O$8)))) -> 225 | G26: 43044 | H26: 43053 | I26: =MAX(H26-G26,0) -> 9 | J26: =IF(I26=0,"",IF(I26>10,20%,IF(I26>5,15%,"0%"))) -> 0.15 | K26: =IF(J26="","",F26*I26*(1-J26)) -> 1721.25
A27: Tahseen Sulayman | B27: German | C27: 49351258 | D27: Standard | E27: 1 | F27: =IF(D27=$N$4,$O$4,IF(D27=$N$5,$O$5,IF(D27=$N$6,$O$6,IF(D27=$N$7,$O$7,$O$8)))) -> 100 | G27: 43054 | I27: =MAX(H27-G27,0) -> 0 | J27: =IF(I27=0,"",IF(I27>10,20%,IF(I27>5,15%,"0%"))) | K27: =IF(J27="","",F27*I27*(1-J27))
A28: Waleed Omar | B28: Jordanian | C28: 155267478 | D28: Double Room | E28: 19 | F28: =IF(D28=$N$4,$O$4,IF(D28=$N$5,$O$5,IF(D28=$N$6,$O$6,IF(D28=$N$7,$O$7,$O$8)))) -> 150 | G28: 43043 | I28: =MAX(H28-G28,0) -> 0 | J28: =IF(I28=0,"",IF(I28>10,20%,IF(I28>5,15%,"0%"))) | K28: =IF(J28="","",F28*I28*(1-J28))
A29: Yaman Syri | B29: iraqi | C29: 520367234 | D29: Standard | E29: 9 | F29: =IF(D29=$N$4,$O$4,IF(D29=$N$5,$O$5,IF(D29=$N$6,$O$6,IF(D29=$N$7,$O$7,$O$8)))) -> 100 | G29: 43055 | I29: =MAX(H29-G29,0) -> 0 | J29: =IF(I29=0,"",IF(I29>10,20%,IF(I29>5,15%,"0%"))) | K29: =IF(J29="","",F29*I29*(1-J29))

Sheet Rooms Types
A1: النوع | B1: رقم الغرفة
A2: Standard | B2: 1 | H2: Helper Range
A3: Standard | B3: 2 | H3: رقم الغرفة | I3: النوع | J3: الحاله | K3: النتيجه
A4: Standard | B4: 3 | H4: 33 | I4: Cabana | J4: Full | K4: =IF(J4="Full",H4&"-"&J4,H4&"-"&I4) -> 33-Full
A5: Standard | B5: 4 | H5: 13 | I5: Standard | J5: Full | K5: =IF(J5="Full",H5&"-"&J5,H5&"-"&I5) -> 13-Full
A6: Standard | B6: 5 | H6: 34 | I6: Cabana | J6: Full | K6: =IF(J6="Full",H6&"-"&J6,H6&"-"&I6) -> 34-Full
A7: Standard | B7: 6 | H7: 11 | I7: Standard | J7: Full | K7: =IF(J7="Full",H7&"-"&J7,H7&"-"&I7) -> 11-Full
A8: Standard | B8: 7 | H8: 10 | I8: Standard | J8: Full | K8: =IF(J8="Full",H8&"-"&J8,H8&"-"&I8) -> 10-Full
A9: Standard | B9: 8 | H9: 22 | I9: Double Room | J9: Full | K9: =IF(J9="Full",H9&"-"&J9,H9&"-"&I9) -> 22-Full
A10: Standard | B10: 9 | H10: 16 | I10: Double Room | J10: Full | K10: =IF(J10="Full",H10&"-"&J10,H10&"-"&I10) -> 16-Full
A11: Standard | B11: 10 | H11: 23 | I11: Duplex | J11: Full | K11: =IF(J11="Full",H11&"-"&J11,H11&"-"&I11) -> 23-Full
A12: Standard | B12: 11 | H12: 35 | I12: Cabana | J12: Full | K12: =IF(J12="Full",H12&"-"&J12,H12&"-"&I12) -> 35-Full
A13: Standard | B13: 12 | H13: 20 | I13: Double Room | J13: Full | K13: =IF(J13="Full",H13&"-"&J13,H13&"-"&I13) -> 20-Full
A14: Standard | B14: 13 | H14: 21 | I14: Double Room | J14: Full | K14: =IF(J14="Full",H14&"-"&J14,H14&"-"&I14) -> 21-Full
A15: Double Room | B15: 14 | H15: 1 | I15: Standard | J15: Full | K15: =IF(J15="Full",H15&"-"&J15,H15&"-"&I15) -> 1-Full
... A46: Suite Room | B46: 45 | H46: 43 | I46: Suite Room | J46: Empty | K46: =IF(J46="Full",H46&"-"&J46,H46&"-"&I46) -> 43-Suite Room
H47: 44 | I47: Suite Room | J47: Empty | K47: =IF(J47="Full",H47&"-"&J47,H47&"-"&I47) -> 44-Suite Room
H48: 45 | I48: Suite Room | J48: Empty | K48: =IF(J48="Full",H48&"-"&J48,H48&"-"&I48) -> 45-Suite Room
